BEGIN:VCALENDAR
VERSION:2.0
PRODID:-//Watchmen Tree - ECPv6.13.2.1//NONSGML v1.0//EN
CALSCALE:GREGORIAN
METHOD:PUBLISH
X-ORIGINAL-URL:https://watchmentree.org
X-WR-CALDESC:Events for Watchmen Tree
REFRESH-INTERVAL;VALUE=DURATION:PT1H
X-Robots-Tag:noindex
X-PUBLISHED-TTL:PT1H
BEGIN:VTIMEZONE
TZID:UTC
BEGIN:STANDARD
TZOFFSETFROM:+0000
TZOFFSETTO:+0000
TZNAME:UTC
DTSTART:20250101T000000
END:STANDARD
END:VTIMEZONE
BEGIN:VEVENT
DTSTART;VALUE=DATE:20250515
DTEND;VALUE=DATE:20250526
DTSTAMP:20260424T000917
CREATED:20191211T062951Z
LAST-MODIFIED:20240918T232558Z
UID:17443-1747267200-1748217599@watchmentree.org
SUMMARY:Plant a Watchmen Tree Save a Life
DESCRIPTION:Plant a Watchmen Tree during our Watchmen Day May 15th-May 25
URL:https://watchmentree.org/event/plantawatchmentree/
LOCATION:Watchmen\, 2714 Hickman Rd\, Des Moines\, IA\, 97214\, United States
CATEGORIES:Life style
END:VEVENT
END:VCALENDAR